BEGIN:VCALENDAR
VERSION:2.0
PRODID:-//Blog knihkupectví Luxor - ECPv6.15.20//NONSGML v1.0//EN
CALSCALE:GREGORIAN
METHOD:PUBLISH
X-ORIGINAL-URL:https://www.luxor.cz/blog
X-WR-CALDESC:Akce na Blog knihkupectví Luxor
REFRESH-INTERVAL;VALUE=DURATION:PT1H
X-Robots-Tag:noindex
X-PUBLISHED-TTL:PT1H
BEGIN:VTIMEZONE
TZID:Europe/Prague
BEGIN:DAYLIGHT
TZOFFSETFROM:+0100
TZOFFSETTO:+0200
TZNAME:CEST
DTSTART:20150329T010000
END:DAYLIGHT
BEGIN:STANDARD
TZOFFSETFROM:+0200
TZOFFSETTO:+0100
TZNAME:CET
DTSTART:20151025T010000
END:STANDARD
BEGIN:DAYLIGHT
TZOFFSETFROM:+0100
TZOFFSETTO:+0200
TZNAME:CEST
DTSTART:20160327T010000
END:DAYLIGHT
BEGIN:STANDARD
TZOFFSETFROM:+0200
TZOFFSETTO:+0100
TZNAME:CET
DTSTART:20161030T010000
END:STANDARD
BEGIN:DAYLIGHT
TZOFFSETFROM:+0100
TZOFFSETTO:+0200
TZNAME:CEST
DTSTART:20170326T010000
END:DAYLIGHT
BEGIN:STANDARD
TZOFFSETFROM:+0200
TZOFFSETTO:+0100
TZNAME:CET
DTSTART:20171029T010000
END:STANDARD
END:VTIMEZONE
BEGIN:VEVENT
DTSTART;TZID=Europe/Prague:20161209T170000
DTEND;TZID=Europe/Prague:20161209T170000
DTSTAMP:20260424T141105
CREATED:20190831T151819Z
LAST-MODIFIED:20190831T151819Z
UID:1297-1481302800-1481302800@www.luxor.cz
SUMMARY:Autogramiáda Františka Kotlety
DESCRIPTION:Postapokalyptický román mistra akční fantastiky \nJe po válkách\, které nikdo nevyhrál. V sutinách Prahy přežívá pár\ndesítek tisíc lidí a snaží se ze všech sil uchovat něco jako civilizaci.\n Jenže zbytek světa nemá o civilizaci zájem. Zbytek světa chce za každou\n cenu přežít\, a to zpravidla na úkor někoho jiného. A tak lidský život\nnemá moc velkou hodnotu – možná několika masových konzerv nebo pilulek\nproti ozáření. A čím dál od někdejšího hlavního města\, tím divočejší\npoměry panují. \nSkupina válečných veteránů musí Prahu opustit. Čeká je cesta územím\, kde\n se každou chvíli mění vláda podle toho\, kdo má v jaké přestřelce\nnavrch\, kdo tam zrovna přitáhne a má víc chlapů nebo střeliva. Musí\ntotiž splatit jeden dluh. Čestný dluh z časů\, kdy takové věci měly ještě\n hodnotu.  \nVítejte v roce 2050 v nejponuřejším románu Františka Kotlety.
URL:https://www.luxor.cz/blog/akce/autogramiada-frantiska-kotlety--849/
LOCATION:Palác knih Luxor\, Václavské náměstí 820/41\, Praha 1\, 11000\, Česká republika
ORGANIZER;CN="Luxor":MAILTO:info@luxor.cz
END:VEVENT
END:VCALENDAR