BEGIN:VCALENDAR
VERSION:2.0
PRODID:-//Blog knihkupectví Luxor - ECPv6.15.20//NONSGML v1.0//EN
CALSCALE:GREGORIAN
METHOD:PUBLISH
X-ORIGINAL-URL:https://www.luxor.cz/blog
X-WR-CALDESC:Akce na Blog knihkupectví Luxor
REFRESH-INTERVAL;VALUE=DURATION:PT1H
X-Robots-Tag:noindex
X-PUBLISHED-TTL:PT1H
BEGIN:VTIMEZONE
TZID:Europe/Prague
BEGIN:DAYLIGHT
TZOFFSETFROM:+0100
TZOFFSETTO:+0200
TZNAME:CEST
DTSTART:20150329T010000
END:DAYLIGHT
BEGIN:STANDARD
TZOFFSETFROM:+0200
TZOFFSETTO:+0100
TZNAME:CET
DTSTART:20151025T010000
END:STANDARD
BEGIN:DAYLIGHT
TZOFFSETFROM:+0100
TZOFFSETTO:+0200
TZNAME:CEST
DTSTART:20160327T010000
END:DAYLIGHT
BEGIN:STANDARD
TZOFFSETFROM:+0200
TZOFFSETTO:+0100
TZNAME:CET
DTSTART:20161030T010000
END:STANDARD
BEGIN:DAYLIGHT
TZOFFSETFROM:+0100
TZOFFSETTO:+0200
TZNAME:CEST
DTSTART:20170326T010000
END:DAYLIGHT
BEGIN:STANDARD
TZOFFSETFROM:+0200
TZOFFSETTO:+0100
TZNAME:CET
DTSTART:20171029T010000
END:STANDARD
END:VTIMEZONE
BEGIN:VEVENT
DTSTART;TZID=Europe/Prague:20161207T170000
DTEND;TZID=Europe/Prague:20161207T170000
DTSTAMP:20260424T141106
CREATED:20190831T151817Z
LAST-MODIFIED:20190831T151817Z
UID:1295-1481130000-1481130000@www.luxor.cz
SUMMARY:Křest knihy Seth M. Siegela
DESCRIPTION:Podle prognóz americké vlády bude čtyřicet z padesáti států USA\, společně s 60 procenty celého povrchu zeměkoule\, brzy čelit alarmujícím\nrozdílům mezi množstvím dostupné vody a rostoucí poptávkou po ní. Pokud\nnezačneme problém řešit\, čeká nás zvyšování cen potravin a zpomalení\nekonomického růstu\, což pravděpodobně povede i k větší politické\nnestabilitě. Kniha Budiž voda ukazuje\, v čem může Izrael sloužit jako\npříklad dalším zemím při předcházení nejhorším krizovým scénářům.\nPřestože šedesát procent izraelského území tvoří poušť\, tato země\nnejenže dokázala vyřešit vlastní problémy s vodou: má jí dokonce\nnadbytek. Izrael dodává vodu sousedním zemím – každodenně jí zásobuje\npalestinská území a Jordánsko. Izrael stal absolutní špičkou v oblasti\nvodohospodářství a ve vývoji potřebných technologií. Poutavě napsaná\nkniha Budiž voda je inspirativním vyprávěním popisujícím vize a oběti\nstátu a národa\, který zajištění dostatku vody odedávna považuje za jednu\n ze svých základních priorit. Navzdory velmi omezeným zdrojům vody\,\nrychle rostoucí populaci i ekonomice a mnohdy nepřátelsky naladěným\nsousedním zemím si Izrael dlouhodobě udržuje náskok v oblasti\nvodohospodářských inovací\, s cílem zajistit svůj vlastní dynamický\nbudoucí rozvoj. Seznámit se s izraelskými zkušenostmi a poučit se\, jak\nlze překonat náročné výzvy a změnit se z vyprahlé země ve skutečnou\nvelmoc\, pokud jde o hospodaření s vodou\, může být přínosem pro každé\nměsto\, každý stát – i pro každého jednotlivého čtenáře.
URL:https://www.luxor.cz/blog/akce/krest-knihy-seth-m-siegela--847/
LOCATION:Palác knih Luxor\, Václavské náměstí 820/41\, Praha 1\, 11000\, Česká republika
ORGANIZER;CN="Luxor":MAILTO:info@luxor.cz
END:VEVENT
END:VCALENDAR