BEGIN:VCALENDAR
VERSION:2.0
PRODID:-//Blog knihkupectví Luxor - ECPv6.15.20//NONSGML v1.0//EN
CALSCALE:GREGORIAN
METHOD:PUBLISH
X-WR-CALNAME:Blog knihkupectví Luxor
X-ORIGINAL-URL:https://www.luxor.cz/blog
X-WR-CALDESC:Akce na Blog knihkupectví Luxor
REFRESH-INTERVAL;VALUE=DURATION:PT1H
X-Robots-Tag:noindex
X-PUBLISHED-TTL:PT1H
BEGIN:VTIMEZONE
TZID:Europe/Prague
BEGIN:DAYLIGHT
TZOFFSETFROM:+0100
TZOFFSETTO:+0200
TZNAME:CEST
DTSTART:20150329T010000
END:DAYLIGHT
BEGIN:STANDARD
TZOFFSETFROM:+0200
TZOFFSETTO:+0100
TZNAME:CET
DTSTART:20151025T010000
END:STANDARD
BEGIN:DAYLIGHT
TZOFFSETFROM:+0100
TZOFFSETTO:+0200
TZNAME:CEST
DTSTART:20160327T010000
END:DAYLIGHT
BEGIN:STANDARD
TZOFFSETFROM:+0200
TZOFFSETTO:+0100
TZNAME:CET
DTSTART:20161030T010000
END:STANDARD
BEGIN:DAYLIGHT
TZOFFSETFROM:+0100
TZOFFSETTO:+0200
TZNAME:CEST
DTSTART:20170326T010000
END:DAYLIGHT
BEGIN:STANDARD
TZOFFSETFROM:+0200
TZOFFSETTO:+0100
TZNAME:CET
DTSTART:20171029T010000
END:STANDARD
END:VTIMEZONE
BEGIN:VEVENT
DTSTART;TZID=Europe/Prague:20161206T160000
DTEND;TZID=Europe/Prague:20161206T160000
DTSTAMP:20260424T141055
CREATED:20190831T151817Z
LAST-MODIFIED:20190831T151817Z
UID:1294-1481040000-1481040000@www.luxor.cz
SUMMARY:Křest knihy Elišky Haškové Coolidge
DESCRIPTION:Nové doplněné a rozšířené vydání vzpomínek Elišky Haškové Coolidge\, významné Češky\, která se dokázala prosadit jak ve vrcholném politickém\nprostředí v USA\, tak po revoluci i v bývalé vlasti. Rodačka z Prahy\,\nemigrovala v roce 1949 do USA a je již dostatečně známo\, že kariéru\nzačala v Bílém domě\, kde dlouho pracovala jako zvláštní asistentka pěti\namerických prezidentů\, dále ve vysokých pozicích na ministerstvu\nzahraničních věcí USA a v dalších důležitých amerických vládních\norganizacích. Dnes napomáhá společenským i podnikatelským kontaktům mezi\n Českou republikou a USA a poskytuje poradenství nejen v otázkách\nprotokolu\, etikety\, personalistiky a public relations\, ale i v oblasti\ngastronomie a turistiky.
URL:https://www.luxor.cz/blog/akce/krest-knihy-elisky-haskove-coolidge--846/
LOCATION:Palác knih Luxor\, Václavské náměstí 820/41\, Praha 1\, 11000\, Česká republika
ORGANIZER;CN="Luxor":MAILTO:info@luxor.cz
END:VEVENT
BEGIN:VEVENT
DTSTART;TZID=Europe/Prague:20161206T180000
DTEND;TZID=Europe/Prague:20161206T180000
DTSTAMP:20260424T141055
CREATED:20190831T151819Z
LAST-MODIFIED:20190831T151819Z
UID:1298-1481047200-1481047200@www.luxor.cz
SUMMARY:Autogramiáda Patrika Hartla
DESCRIPTION:Nový dvojromán Patrika Hartla je možné začít číst z kterékoli strany. Vyberte si! Příběh sourozenců Veroniky a Jáchyma budete prožívat podle\ntoho\, který začátek zvolíte. Buďto do života skočíte jako Jáchym volným\npádem z výšky čtyř tisíc metrů nebo se jako Veronika budete statečně\nprokousávat citovými nástrahami ode dne ke dni. Prožijete dva příběhy v\njednom. Jako on a jako ona. Nebo v opačném pořadí\, což bude překvapivě\njiné\, než byste očekávali…
URL:https://www.luxor.cz/blog/akce/autogramiada-patrika-hartla--850/
LOCATION:Palác knih Luxor\, Václavské náměstí 820/41\, Praha 1\, 11000\, Česká republika
ORGANIZER;CN="Luxor":MAILTO:info@luxor.cz
END:VEVENT
END:VCALENDAR