BEGIN:VCALENDAR
VERSION:2.0
PRODID:-//Blog knihkupectví Luxor - ECPv6.15.20//NONSGML v1.0//EN
CALSCALE:GREGORIAN
METHOD:PUBLISH
X-ORIGINAL-URL:https://www.luxor.cz/blog
X-WR-CALDESC:Akce na Blog knihkupectví Luxor
REFRESH-INTERVAL;VALUE=DURATION:PT1H
X-Robots-Tag:noindex
X-PUBLISHED-TTL:PT1H
BEGIN:VTIMEZONE
TZID:Europe/Prague
BEGIN:DAYLIGHT
TZOFFSETFROM:+0100
TZOFFSETTO:+0200
TZNAME:CEST
DTSTART:20150329T010000
END:DAYLIGHT
BEGIN:STANDARD
TZOFFSETFROM:+0200
TZOFFSETTO:+0100
TZNAME:CET
DTSTART:20151025T010000
END:STANDARD
BEGIN:DAYLIGHT
TZOFFSETFROM:+0100
TZOFFSETTO:+0200
TZNAME:CEST
DTSTART:20160327T010000
END:DAYLIGHT
BEGIN:STANDARD
TZOFFSETFROM:+0200
TZOFFSETTO:+0100
TZNAME:CET
DTSTART:20161030T010000
END:STANDARD
BEGIN:DAYLIGHT
TZOFFSETFROM:+0100
TZOFFSETTO:+0200
TZNAME:CEST
DTSTART:20170326T010000
END:DAYLIGHT
BEGIN:STANDARD
TZOFFSETFROM:+0200
TZOFFSETTO:+0100
TZNAME:CET
DTSTART:20171029T010000
END:STANDARD
END:VTIMEZONE
BEGIN:VEVENT
DTSTART;TZID=Europe/Prague:20161129T170000
DTEND;TZID=Europe/Prague:20161129T170000
DTSTAMP:20260424T141106
CREATED:20190831T151814Z
LAST-MODIFIED:20190831T151814Z
UID:1287-1480438800-1480438800@www.luxor.cz
SUMMARY:Autogramiáda Haliny Pawlowské
DESCRIPTION:Povídky s tradičně netradičním humorem\, který nikdy neomrzí. \n Přišla jsem na to jako blesk z čistého nebe. Abych byla šťastná\,\npotřebuju\, aby mne někdo miloval\, abych milovala já jeho a aby mi to\nslušelo! A když jsem si své touhy takhle zformulovala\, bylo mi\n              jasné\, co musím udělat! A o tom je můj příběh. Dalo by se\nto shrnout do jedné věty: Budu vám vyprávět\, jak jsem konečně našla ten\nideální model! \n Jednou mi jeden muž řekl\, že jsem ho\nfascinovala\, když jsem si ve Filmovém klubu čechrala sukni… Pamatuju\nsi\, že mi\n              to řekl na ulici hned vedle Národního divadla a jak jsem\nměla šílenou touhu zavřít oči\, zvrátit hlavu až ke koním\, které se tam\nvzpínají na střeše\, a zařvat silně\, aby to slyšely všechny ženy na celém\n světě: „Tak se mi to povedlo! Ten chlap sledoval\, jen jak se hýbu\, a\n              ušlo mu\, že mám tlustý nohy!“
URL:https://www.luxor.cz/blog/akce/autogramiada-haliny-pawlowske-2/
LOCATION:Palác knih Luxor\, Václavské náměstí 820/41\, Praha 1\, 11000\, Česká republika
ORGANIZER;CN="Luxor":MAILTO:info@luxor.cz
END:VEVENT
END:VCALENDAR