BEGIN:VCALENDAR
VERSION:2.0
PRODID:-//Blog knihkupectví Luxor - ECPv6.15.20//NONSGML v1.0//EN
CALSCALE:GREGORIAN
METHOD:PUBLISH
X-ORIGINAL-URL:https://www.luxor.cz/blog
X-WR-CALDESC:Akce na Blog knihkupectví Luxor
REFRESH-INTERVAL;VALUE=DURATION:PT1H
X-Robots-Tag:noindex
X-PUBLISHED-TTL:PT1H
BEGIN:VTIMEZONE
TZID:Europe/Prague
BEGIN:DAYLIGHT
TZOFFSETFROM:+0100
TZOFFSETTO:+0200
TZNAME:CEST
DTSTART:20150329T010000
END:DAYLIGHT
BEGIN:STANDARD
TZOFFSETFROM:+0200
TZOFFSETTO:+0100
TZNAME:CET
DTSTART:20151025T010000
END:STANDARD
BEGIN:DAYLIGHT
TZOFFSETFROM:+0100
TZOFFSETTO:+0200
TZNAME:CEST
DTSTART:20160327T010000
END:DAYLIGHT
BEGIN:STANDARD
TZOFFSETFROM:+0200
TZOFFSETTO:+0100
TZNAME:CET
DTSTART:20161030T010000
END:STANDARD
BEGIN:DAYLIGHT
TZOFFSETFROM:+0100
TZOFFSETTO:+0200
TZNAME:CEST
DTSTART:20170326T010000
END:DAYLIGHT
BEGIN:STANDARD
TZOFFSETFROM:+0200
TZOFFSETTO:+0100
TZNAME:CET
DTSTART:20171029T010000
END:STANDARD
END:VTIMEZONE
BEGIN:VEVENT
DTSTART;TZID=Europe/Prague:20161124T170000
DTEND;TZID=Europe/Prague:20161124T170000
DTSTAMP:20260424T153819
CREATED:20190831T151811Z
LAST-MODIFIED:20190831T151811Z
UID:1281-1480006800-1480006800@www.luxor.cz
SUMMARY:Křest knihy Rudolfa Křesťana
DESCRIPTION:Právě zvědavost a údiv pokládá autor celoživotně za předstupeň k poznání. Toto přesvědčení je patrné z fejetonů\, jejichž psaní se věnuje s\n potěšením přes půl století.  Letos vyjde v pořadí již jeho 19. sbírka\,\nkterá shromažďuje 88 těchto literárních opusů z posledních dvou let.\nJejich nedílnou součástí jsou barevné ilustrace jeho ženy Magdy.\nNeměli bychom se stydět za to\, když na něco zíráme „jako husa do\nflašky“. A nemusí jít jen o věci exotické\, stejně zajímavé mohou být i\nty zdánlivě každodenní\, podíváme-li se na ně blíže. Stejně tak jako ony\nzmíněné husy\, které nejsou k ničemu lhostejné a chtějí svými zvědavými\nzobáky všechno prozkoumat. To je přece vlastnost hodná následování!
URL:https://www.luxor.cz/blog/akce/krest-knihy-rudolfa-krestana-2/
LOCATION:Palác knih Luxor\, Václavské náměstí 820/41\, Praha 1\, 11000\, Česká republika
ORGANIZER;CN="Luxor":MAILTO:info@luxor.cz
END:VEVENT
END:VCALENDAR