BEGIN:VCALENDAR
VERSION:2.0
PRODID:-//Blog knihkupectví Luxor - ECPv6.15.20//NONSGML v1.0//EN
CALSCALE:GREGORIAN
METHOD:PUBLISH
X-ORIGINAL-URL:https://www.luxor.cz/blog
X-WR-CALDESC:Akce na Blog knihkupectví Luxor
REFRESH-INTERVAL;VALUE=DURATION:PT1H
X-Robots-Tag:noindex
X-PUBLISHED-TTL:PT1H
BEGIN:VTIMEZONE
TZID:Europe/Prague
BEGIN:DAYLIGHT
TZOFFSETFROM:+0100
TZOFFSETTO:+0200
TZNAME:CEST
DTSTART:20150329T010000
END:DAYLIGHT
BEGIN:STANDARD
TZOFFSETFROM:+0200
TZOFFSETTO:+0100
TZNAME:CET
DTSTART:20151025T010000
END:STANDARD
BEGIN:DAYLIGHT
TZOFFSETFROM:+0100
TZOFFSETTO:+0200
TZNAME:CEST
DTSTART:20160327T010000
END:DAYLIGHT
BEGIN:STANDARD
TZOFFSETFROM:+0200
TZOFFSETTO:+0100
TZNAME:CET
DTSTART:20161030T010000
END:STANDARD
BEGIN:DAYLIGHT
TZOFFSETFROM:+0100
TZOFFSETTO:+0200
TZNAME:CEST
DTSTART:20170326T010000
END:DAYLIGHT
BEGIN:STANDARD
TZOFFSETFROM:+0200
TZOFFSETTO:+0100
TZNAME:CET
DTSTART:20171029T010000
END:STANDARD
END:VTIMEZONE
BEGIN:VEVENT
DTSTART;TZID=Europe/Prague:20161121T170000
DTEND;TZID=Europe/Prague:20161121T170000
DTSTAMP:20260424T153820
CREATED:20190831T151811Z
LAST-MODIFIED:20190831T151811Z
UID:1279-1479747600-1479747600@www.luxor.cz
SUMMARY:Křest knihy Miroslava „Mekyho“ Žbirky
DESCRIPTION:Životní příběh Miroslava „Mekyho“ Žbirky\, jak jej z jeho vyprávění zaznamenal novinář Honza Vedral. Publikace\, která mapuje jeden z\nnejúžasnějších příběhů československé populární hudby. Žbirka otevřeně\nhovoří o rozličných peripetiích svého života od nejútlejšího mládí až po\n dnešek a nevyhýbá se ani tak těžkým okamžikům\, jako byla smrt jeho\nstaršího bratra\, která ho těžce zasáhla a z níž se dokázal dostat hlavně\n díky hudbě. Příběh Mira Žbirky působí neuvěřitelně\, ale přitom je\ncivilní\, přirozený a tak nějak neobyčejně obyčejný. Spousta věcí se v\nněm stala mimochodem\, skoro všechny bez velkých dramat\, tak nějak\nelegantně. Ale k většině z nich hrála skvělá hudba\, která v sobě měla\nurčitou blízkost i sympatickou schopnost překvapit a nedržet se\nvyšlapaných stop.
URL:https://www.luxor.cz/blog/akce/krest-knihy-miroslava-mekyho-zbirky--831/
LOCATION:Palác knih Luxor\, Václavské náměstí 820/41\, Praha 1\, 11000\, Česká republika
ORGANIZER;CN="Luxor":MAILTO:info@luxor.cz
END:VEVENT
BEGIN:VEVENT
DTSTART;TZID=Europe/Prague:20161121T170000
DTEND;TZID=Europe/Prague:20161121T170000
DTSTAMP:20260424T153820
CREATED:20190831T151815Z
LAST-MODIFIED:20190831T151815Z
UID:1289-1479747600-1479747600@www.luxor.cz
SUMMARY:Autogramiáda Lindy Rybové a Kateřiny Winterové
DESCRIPTION:
URL:https://www.luxor.cz/blog/akce/autogramiada-lindy-rybove-a-kateriny-winterove--841/
LOCATION:Knihkupectví Plaza\, OC Plaza\, Plzeň\, 30100\, Česká republika
ORGANIZER;CN="Luxor":MAILTO:info@luxor.cz
END:VEVENT
END:VCALENDAR