BEGIN:VCALENDAR
VERSION:2.0
PRODID:-//Blog knihkupectví Luxor - ECPv6.15.20//NONSGML v1.0//EN
CALSCALE:GREGORIAN
METHOD:PUBLISH
X-WR-CALNAME:Blog knihkupectví Luxor
X-ORIGINAL-URL:https://www.luxor.cz/blog
X-WR-CALDESC:Akce na Blog knihkupectví Luxor
REFRESH-INTERVAL;VALUE=DURATION:PT1H
X-Robots-Tag:noindex
X-PUBLISHED-TTL:PT1H
BEGIN:VTIMEZONE
TZID:Europe/Prague
BEGIN:DAYLIGHT
TZOFFSETFROM:+0100
TZOFFSETTO:+0200
TZNAME:CEST
DTSTART:20150329T010000
END:DAYLIGHT
BEGIN:STANDARD
TZOFFSETFROM:+0200
TZOFFSETTO:+0100
TZNAME:CET
DTSTART:20151025T010000
END:STANDARD
BEGIN:DAYLIGHT
TZOFFSETFROM:+0100
TZOFFSETTO:+0200
TZNAME:CEST
DTSTART:20160327T010000
END:DAYLIGHT
BEGIN:STANDARD
TZOFFSETFROM:+0200
TZOFFSETTO:+0100
TZNAME:CET
DTSTART:20161030T010000
END:STANDARD
BEGIN:DAYLIGHT
TZOFFSETFROM:+0100
TZOFFSETTO:+0200
TZNAME:CEST
DTSTART:20170326T010000
END:DAYLIGHT
BEGIN:STANDARD
TZOFFSETFROM:+0200
TZOFFSETTO:+0100
TZNAME:CET
DTSTART:20171029T010000
END:STANDARD
END:VTIMEZONE
BEGIN:VEVENT
DTSTART;TZID=Europe/Prague:20161107T160000
DTEND;TZID=Europe/Prague:20161107T160000
DTSTAMP:20260424T153753
CREATED:20190831T151813Z
LAST-MODIFIED:20190831T151813Z
UID:1286-1478534400-1478534400@www.luxor.cz
SUMMARY:Křest knihy Daniela Landy
DESCRIPTION:DANIEL LANDA  \nVŠENÍK \nPro mnohé stále kontroverzní umělec DANIEL LANDA\, zpěvák\, herec\, skladatel\, scénárista\, boxer\, jezdec rallye a kouzelník Žito\,\nsi konečně udělal čas\, aby se ze svých různých směrů na chvíli vrátil především\nsám k sobě. A při tom si poprvé v životě začal psát deník\, který se mu nečekaně pod rukama tematicky tak rozrostl\, že ho pojmenoval VŠENÍK. \nPro důkladnější pátrání v zákoutích své vlastní\nduše nalezl odlehlé místo\nna vzdáleném\nostrově Bali\, kde dobrovolně přijal roli dočasného askety. Kromě vtipných popisů úspěšných i marných bojů s démony\njídla\, pití\, kouření či internetu se na papír dostalo mnohem víc – klíč k pochopení\nDaniela Landy. Jak definuje sám autor v úvodu své knihy: „Všeník je pro mě cosi jako dosud\nutajované\, avšak překvapivě solidně uklizené podzemní skladiště myšlenek\nna mentálním pozemku zvenku nečitelného podivína a bordeláře.“ \nVšeník je zábavné\,\npoutavé a objevné čtení o nechápaných\, vysmívaných nebo odsuzovaných tématech\, která jejich šiřitel dosud nedokázal (možná ani nechtěl) vysvětlit. Autor\nnapř. píše o tom\, proč uctívá\nkorunu prvního českého krále\nVratislava II.\, proč pátrá po stopách\nnašich pradávných předků\, záhadného národa indoevropských Árjů či co ho vedlo k divoké proměně v kouzelníka Žita. Bez\nobalu líčí\, jaké myšlenky ho\nnapadaly ve chvíli\, kdy ho mistr světa v thajském boxu nakopl bez chráničů do hlavy\, na co\nmyslel v hlubinách mezi žraloky nebo co mu běželo hlavou v Afghánistánu\,\nkdyž dva dny před Vánocemi\nnedaleko od něj vybuchovaly smrtící rakety…
URL:https://www.luxor.cz/blog/akce/krest-knihy-daniela-landy--838/
LOCATION:Knihkupectví Quadrio\, Obchodní centrum Quadrio\, Praha 1\, 11000\, Česká republika
ORGANIZER;CN="Luxor":MAILTO:info@luxor.cz
END:VEVENT
BEGIN:VEVENT
DTSTART;TZID=Europe/Prague:20161107T170000
DTEND;TZID=Europe/Prague:20161107T170000
DTSTAMP:20260424T153753
CREATED:20190831T151807Z
LAST-MODIFIED:20190831T151807Z
UID:1271-1478538000-1478538000@www.luxor.cz
SUMMARY:Autogramiáda Evžena Bočka
DESCRIPTION:Mladá aristokratka Marie Kostková z Kostky opět řeší nezáviděníhodné problémy. „Nejchudší zámek v Čechách“ zůstává věrný svému označení\, a\ntak tu hraběcí rodinka ani personál rozhodně nemají ustláno na růžích.\nMísto davů návštěvníků se na zámku kupí neproplacené faktury za vodu a\nhrozí\, že záhy bude největší atrakcí každodenní koupel obyvatel zámku v\nkašně s dešťovkou. Chce to nějaký nápad…
URL:https://www.luxor.cz/blog/akce/autogramiada-evzena-bocka--823/
LOCATION:Palác knih Luxor\, Václavské náměstí 820/41\, Praha 1\, 11000\, Česká republika
ORGANIZER;CN="Luxor":MAILTO:info@luxor.cz
END:VEVENT
END:VCALENDAR