BEGIN:VCALENDAR
VERSION:2.0
PRODID:-//Blog knihkupectví Luxor - ECPv6.15.20//NONSGML v1.0//EN
CALSCALE:GREGORIAN
METHOD:PUBLISH
X-WR-CALNAME:Blog knihkupectví Luxor
X-ORIGINAL-URL:https://www.luxor.cz/blog
X-WR-CALDESC:Akce na Blog knihkupectví Luxor
REFRESH-INTERVAL;VALUE=DURATION:PT1H
X-Robots-Tag:noindex
X-PUBLISHED-TTL:PT1H
BEGIN:VTIMEZONE
TZID:Europe/Prague
BEGIN:DAYLIGHT
TZOFFSETFROM:+0100
TZOFFSETTO:+0200
TZNAME:CEST
DTSTART:20150329T010000
END:DAYLIGHT
BEGIN:STANDARD
TZOFFSETFROM:+0200
TZOFFSETTO:+0100
TZNAME:CET
DTSTART:20151025T010000
END:STANDARD
BEGIN:DAYLIGHT
TZOFFSETFROM:+0100
TZOFFSETTO:+0200
TZNAME:CEST
DTSTART:20160327T010000
END:DAYLIGHT
BEGIN:STANDARD
TZOFFSETFROM:+0200
TZOFFSETTO:+0100
TZNAME:CET
DTSTART:20161030T010000
END:STANDARD
BEGIN:DAYLIGHT
TZOFFSETFROM:+0100
TZOFFSETTO:+0200
TZNAME:CEST
DTSTART:20170326T010000
END:DAYLIGHT
BEGIN:STANDARD
TZOFFSETFROM:+0200
TZOFFSETTO:+0100
TZNAME:CET
DTSTART:20171029T010000
END:STANDARD
END:VTIMEZONE
BEGIN:VEVENT
DTSTART;TZID=Europe/Prague:20161102T160000
DTEND;TZID=Europe/Prague:20161102T160000
DTSTAMP:20260424T153753
CREATED:20190831T151807Z
LAST-MODIFIED:20190831T151807Z
UID:1269-1478102400-1478102400@www.luxor.cz
SUMMARY:Křest knihy Miloslava Stingla
DESCRIPTION:Významný český cestovatel a spisovatel Miloslav Stingl po desítkách let zarytého mlčení souhlasil se zpracováním a zveřejněním svého\nneuvěřitelného životního příběhu\, na který netrpělivě čekalo několik\ngenerací jeho věrných čtenářů. Fascinující život autora\, který své\netnografické výzkumy uveřejnil ve 42 knihách\, jež vyšly ve 240 vydáních v\n nákladu převyšujícím 17 milionů výtisků\, je dodnes opředen mnoha dohady\n a tajemstvími. \nJak je možné\, že v době neprodyšně uzavřených hranic procestoval 152\nzemí celého světa? Proč si ho indiánský kmen ze Severní Ameriky vybral\nza svého náčelníka? Co mu pomohlo přežít děsivou námořní katastrofu u\nbřehů Afriky během jedné z jeho osmi plaveb kolem světa? \nBěhem devatenácti let\, která prožil za hranicemi své země\, se mu svět\nměnil doslova před očima. Podívejte se v jeho vzpomínkách na průběh\nkaribské krize přímo z obklíčeného ostrova nebo prožijte dramatickou\ncestu za neznámými indiánskými kmeny hluboko v neprobádaných pralesích\nNové Guineje. O překvapivá setkání se slavnými krajany\, vládci a\nsvětoznámými osobnostmi nebude nouze! Dlouho očekávaná kniha obsahuje 45\n význačných dokumentů a fotografií uložených v dárkovém boxu.
URL:https://www.luxor.cz/blog/akce/krest-knihy-miloslava-stingla-2/
LOCATION:Palác knih Luxor\, Václavské náměstí 820/41\, Praha 1\, 11000\, Česká republika
ORGANIZER;CN="Luxor":MAILTO:info@luxor.cz
END:VEVENT
END:VCALENDAR