BEGIN:VCALENDAR
VERSION:2.0
PRODID:-//Blog knihkupectví Luxor - ECPv6.15.20//NONSGML v1.0//EN
CALSCALE:GREGORIAN
METHOD:PUBLISH
X-WR-CALNAME:Blog knihkupectví Luxor
X-ORIGINAL-URL:https://www.luxor.cz/blog
X-WR-CALDESC:Akce na Blog knihkupectví Luxor
REFRESH-INTERVAL;VALUE=DURATION:PT1H
X-Robots-Tag:noindex
X-PUBLISHED-TTL:PT1H
BEGIN:VTIMEZONE
TZID:Europe/Prague
BEGIN:DAYLIGHT
TZOFFSETFROM:+0100
TZOFFSETTO:+0200
TZNAME:CEST
DTSTART:20150329T010000
END:DAYLIGHT
BEGIN:STANDARD
TZOFFSETFROM:+0200
TZOFFSETTO:+0100
TZNAME:CET
DTSTART:20151025T010000
END:STANDARD
BEGIN:DAYLIGHT
TZOFFSETFROM:+0100
TZOFFSETTO:+0200
TZNAME:CEST
DTSTART:20160327T010000
END:DAYLIGHT
BEGIN:STANDARD
TZOFFSETFROM:+0200
TZOFFSETTO:+0100
TZNAME:CET
DTSTART:20161030T010000
END:STANDARD
BEGIN:DAYLIGHT
TZOFFSETFROM:+0100
TZOFFSETTO:+0200
TZNAME:CEST
DTSTART:20170326T010000
END:DAYLIGHT
BEGIN:STANDARD
TZOFFSETFROM:+0200
TZOFFSETTO:+0100
TZNAME:CET
DTSTART:20171029T010000
END:STANDARD
END:VTIMEZONE
BEGIN:VEVENT
DTSTART;TZID=Europe/Prague:20161030T133900
DTEND;TZID=Europe/Prague:20161030T133900
DTSTAMP:20260424T172932
CREATED:20190831T151813Z
LAST-MODIFIED:20190831T151813Z
UID:1285-1477834740-1477834740@www.luxor.cz
SUMMARY:Audioknihy NAHLAS!
DESCRIPTION:Svy´m rozsahem jsou Audioknihy NAHLAS! největší akcí svého druhu u nás. Během jednoho celého ty´dne od 24. 10. do 30. 10. velmi intenzivně upozorňují na fenomén audioknih\, snaží se ukázat šíři jejich žánrového záběru a samozřejmě také nalákat nové zákazníky k jejich nákupu a poslechu. Do akce se v jejím druhém ročníku zapojilo osm vydavatelů audioknih: OneHotBook\, Tympanum\, Radioservis\, Země pohádek\, Walker & Volf\, Kristián Entertainment\, Progres Guru a Nama Production Prague.  \nV rámci akce se představí 11 nových audioknih. K jejich nákupu pak dostanete navíc bonusové CD zdarma. Akce platí pouze ve vybraných knikupectvích\, konkrétně v Paláci knih Luxor\, knihkupectvích Chodov\, Nový Smíchov\, Quadrio\, Palladium a Hlavní nádraží. \nNovinky:\n\nModré stíny\nPani Hemingwayová\nVšemi dary obdarovaná\nZáhada na zámku Styles\nZavřená truhla\nSharpův tygr\nÚsměvy smutných mužů\nČertův švagr a další pohádky\nDobrý proti severáku\nJsou světla\, která nevidíme\nKrišna Avatár\n\nBonusová CD:\n\nBohové Gothamu\nNorské dřevo\nPAX: Hůl prokletí\, Grim přízrak\nPotichu\nPole a palisáda\nHvězdní honáci\nPrsatý muž a zloděj příběhů\nPrincezna se zlatou hvězdou na čele a další pohádky\nMoc a sláva\nŽena v kleci\nIndické bajky
URL:https://www.luxor.cz/blog/akce/po-roce-zaznivaji-opet-audioknihy-nahlas--837/
LOCATION:Knihkupectví Nový Smíchov\, OC Nový Smíchov\, Praha 5\, 15000\, Česká republika
ORGANIZER;CN="Luxor":MAILTO:info@luxor.cz
END:VEVENT
END:VCALENDAR