BEGIN:VCALENDAR
VERSION:2.0
PRODID:-//Blog knihkupectví Luxor - ECPv6.15.20//NONSGML v1.0//EN
CALSCALE:GREGORIAN
METHOD:PUBLISH
X-ORIGINAL-URL:https://www.luxor.cz/blog
X-WR-CALDESC:Akce na Blog knihkupectví Luxor
REFRESH-INTERVAL;VALUE=DURATION:PT1H
X-Robots-Tag:noindex
X-PUBLISHED-TTL:PT1H
BEGIN:VTIMEZONE
TZID:Europe/Prague
BEGIN:DAYLIGHT
TZOFFSETFROM:+0100
TZOFFSETTO:+0200
TZNAME:CEST
DTSTART:20150329T010000
END:DAYLIGHT
BEGIN:STANDARD
TZOFFSETFROM:+0200
TZOFFSETTO:+0100
TZNAME:CET
DTSTART:20151025T010000
END:STANDARD
BEGIN:DAYLIGHT
TZOFFSETFROM:+0100
TZOFFSETTO:+0200
TZNAME:CEST
DTSTART:20160327T010000
END:DAYLIGHT
BEGIN:STANDARD
TZOFFSETFROM:+0200
TZOFFSETTO:+0100
TZNAME:CET
DTSTART:20161030T010000
END:STANDARD
BEGIN:DAYLIGHT
TZOFFSETFROM:+0100
TZOFFSETTO:+0200
TZNAME:CEST
DTSTART:20170326T010000
END:DAYLIGHT
BEGIN:STANDARD
TZOFFSETFROM:+0200
TZOFFSETTO:+0100
TZNAME:CET
DTSTART:20171029T010000
END:STANDARD
END:VTIMEZONE
BEGIN:VEVENT
DTSTART;TZID=Europe/Prague:20161025T170000
DTEND;TZID=Europe/Prague:20161025T170000
DTSTAMP:20260424T171010
CREATED:20190831T151803Z
LAST-MODIFIED:20190831T151803Z
UID:1260-1477414800-1477414800@www.luxor.cz
SUMMARY:Křest knihy Daniely Kovářové
DESCRIPTION:V budově Městského soudu v Praze je nahlášena\nbomba. Předseda soudu nechá budovu vyklidit\,\na když se po důkladné prohlídce zaměstnanci vrátí\ndo svých kanceláří\, objeví v kanceláři předsedy\nmrtvého soudce. Vzápětí umírá další soudní zaměstnanec.\nŠlo v obou případech o sebevraždy\,\nanebo o cizí zavinění? Komu smrt pomůže a komu\nuškodí? A jak je do ní zapleten předseda soudu?\nDetektiv Šimon Hájek zjišťuje\, že pochopit vztahy\na poměry v justici není jednoduché. Naštěstí mu\ns vyšetřováním pomáhá vnadná tisková mluvčí soudu\nGabriela Rezková.  \nNapínavý kriminální příběh z atraktivního prostředí\,\njehož rozuzlení má jako většina podobných\nvyprávění původ v mezilidských vztazích. Autorka\n– advokátka a bývalá ministryně spravedlnosti –\nv něm ukazuje dobrou znalost justičního prostředí\ni pochopení pro lidské slabosti. Na stránky své desáté\nknihy opět přivádí dvojici hrdinů\, kterou čtenáři\nznají z její poslední detektivky Mrtvá z golfového\nhřiště.
URL:https://www.luxor.cz/blog/akce/krest-knihy-daniely-kovarove-3/
LOCATION:Palác knih Luxor\, Václavské náměstí 820/41\, Praha 1\, 11000\, Česká republika
ORGANIZER;CN="Luxor":MAILTO:info@luxor.cz
END:VEVENT
BEGIN:VEVENT
DTSTART;TZID=Europe/Prague:20161025T170000
DTEND;TZID=Europe/Prague:20161025T170000
DTSTAMP:20260424T171010
CREATED:20190831T151808Z
LAST-MODIFIED:20190831T151808Z
UID:1272-1477414800-1477414800@www.luxor.cz
SUMMARY:Autogramiáda Emira Kusturici
DESCRIPTION:Významný\, oblíbený a charismatický srbský filmový režisér\, pro jehož\ndílo je charakteristická múzičnost\, podmanivý temperament\, hluboká\ncitovost a tajemná vizualita\, vystudoval pražskou FAMU pod vedením\nOtakara Vávry. Do filmového světa se uvedl kvalitními studentskými\nsnímky Guernica\, Jedna část pravdy a Podzim. \nO svém dětství a osobních problémech natočil trojici autobiograficky inspirovaných děl: nostalgickou komedii Vzpomínáš na Dolly Bell? O\n trýznivém dospívání mladíka v Sarajevu 60. let\, který se musí\nvyrovnávat s první láskou i smrtí svého otce alkoholika\, film o rivalitě\n dvou mužů ve vztahu k jedné ženě Otec na služební cestě nominovaný na Oscara a mistrovskou baladu z cikánského života Dům k pověšení\, za kterou získal na MFF v Cannes Cenu za režii. \nNa začátku 90. let 20. století natočil v USA oceněný film Arizona Dream a následně přišel na řadu jeho nejnáročnější projekt Underground\n zachycující poválečné dějiny Jugoslávie až do jejího krvavého rozpadu.\nSvým nostalgickým vyzněním byl však tento snímek v následnických zemích\nJugoslávie přijat s rozpaky\, což vedlo Kusturicu k prohlášení\, že\npřestává točit filmy. \nSvé rozhodnutí naštěstí změnil a po třech letech uvedl úspěšnou cikánskou burleskou Černá kočka\, bílý kocour.\n Díky soundtracku k tomuto filmu se proslavila i srbská kapela No\nSmoking Orchestra\, v níž Kusturica hraje se svým synem Striborem.\nNásledovaly snímky Život je zázrak\, Neviditelné děti a Závěť. \nEmir Kusturica se narodil v rodině bosenských muslimů\, ale jeho otec\nse později jako mnoho Jihoslovanů v té době zřekl víry\, aby se stal\nkomunistou. Emir sám v roce 2005 konvertoval na pravoslaví a přijal\ndruhé jméno Nemanja.
URL:https://www.luxor.cz/blog/akce/autogramiada-emira-kusturici-2/
LOCATION:Knihkupectví Quadrio\, Obchodní centrum Quadrio\, Praha 1\, 11000\, Česká republika
ORGANIZER;CN="Luxor":MAILTO:info@luxor.cz
END:VEVENT
END:VCALENDAR