BEGIN:VCALENDAR
VERSION:2.0
PRODID:-//Blog knihkupectví Luxor - ECPv6.15.20//NONSGML v1.0//EN
CALSCALE:GREGORIAN
METHOD:PUBLISH
X-ORIGINAL-URL:https://www.luxor.cz/blog
X-WR-CALDESC:Akce na Blog knihkupectví Luxor
REFRESH-INTERVAL;VALUE=DURATION:PT1H
X-Robots-Tag:noindex
X-PUBLISHED-TTL:PT1H
BEGIN:VTIMEZONE
TZID:Europe/Prague
BEGIN:DAYLIGHT
TZOFFSETFROM:+0100
TZOFFSETTO:+0200
TZNAME:CEST
DTSTART:20150329T010000
END:DAYLIGHT
BEGIN:STANDARD
TZOFFSETFROM:+0200
TZOFFSETTO:+0100
TZNAME:CET
DTSTART:20151025T010000
END:STANDARD
BEGIN:DAYLIGHT
TZOFFSETFROM:+0100
TZOFFSETTO:+0200
TZNAME:CEST
DTSTART:20160327T010000
END:DAYLIGHT
BEGIN:STANDARD
TZOFFSETFROM:+0200
TZOFFSETTO:+0100
TZNAME:CET
DTSTART:20161030T010000
END:STANDARD
BEGIN:DAYLIGHT
TZOFFSETFROM:+0100
TZOFFSETTO:+0200
TZNAME:CEST
DTSTART:20170326T010000
END:DAYLIGHT
BEGIN:STANDARD
TZOFFSETFROM:+0200
TZOFFSETTO:+0100
TZNAME:CET
DTSTART:20171029T010000
END:STANDARD
END:VTIMEZONE
BEGIN:VEVENT
DTSTART;TZID=Europe/Prague:20161020T160000
DTEND;TZID=Europe/Prague:20161020T160000
DTSTAMP:20260424T170923
CREATED:20190831T151802Z
LAST-MODIFIED:20190831T151802Z
UID:1258-1476979200-1476979200@www.luxor.cz
SUMMARY:Křest knihy Hudební divadlo Karlín - Od varieté k muzikálu
DESCRIPTION:Reprezentativní knižní publikace vydaná k příležitosti deseti let od znovuotevření Hudebního divadla Karlín. Textem i dosud převážně\nnepublikovaným obrazovým doprovodem představuje bohatou a spletitou\nhistorii karlínského divadla od časů varieté po dnešek. Obsáhle se také\nvěnuje operetní a muzikálové produkci v uplynulých sedmdesáti sezonách\nHudebního divadla Karlín\, násilně přerušených katastrofální povodní v\nroce 2002. Zejména fotografiemi přibližuje následnou rekonstrukci\nhistorické budovy i dění v posledních deseti letech od jejího\nznovuotevření. Zvláštní pozornost je zaměřena také na legendární\ninscenace (Divotvorný hrnec\, My Fair Lady\, Polská krev\, Carmen aj.) i\npopulární tvůrčí a herecké osobnosti (Jan Werich\, Vlasta Burian\, Oldřich\n Nový\, Laďka Kozderková\, Karel Fiala a další).
URL:https://www.luxor.cz/blog/akce/krest-knihy-hudebni-divadlo-karlin-od-variete-k-muzikalu/
LOCATION:Palác knih Luxor\, Václavské náměstí 820/41\, Praha 1\, 11000\, Česká republika
ORGANIZER;CN="Luxor":MAILTO:info@luxor.cz
END:VEVENT
END:VCALENDAR