BEGIN:VCALENDAR
VERSION:2.0
PRODID:-//Blog knihkupectví Luxor - ECPv6.15.20//NONSGML v1.0//EN
CALSCALE:GREGORIAN
METHOD:PUBLISH
X-WR-CALNAME:Blog knihkupectví Luxor
X-ORIGINAL-URL:https://www.luxor.cz/blog
X-WR-CALDESC:Akce na Blog knihkupectví Luxor
REFRESH-INTERVAL;VALUE=DURATION:PT1H
X-Robots-Tag:noindex
X-PUBLISHED-TTL:PT1H
BEGIN:VTIMEZONE
TZID:Europe/Prague
BEGIN:DAYLIGHT
TZOFFSETFROM:+0100
TZOFFSETTO:+0200
TZNAME:CEST
DTSTART:20150329T010000
END:DAYLIGHT
BEGIN:STANDARD
TZOFFSETFROM:+0200
TZOFFSETTO:+0100
TZNAME:CET
DTSTART:20151025T010000
END:STANDARD
BEGIN:DAYLIGHT
TZOFFSETFROM:+0100
TZOFFSETTO:+0200
TZNAME:CEST
DTSTART:20160327T010000
END:DAYLIGHT
BEGIN:STANDARD
TZOFFSETFROM:+0200
TZOFFSETTO:+0100
TZNAME:CET
DTSTART:20161030T010000
END:STANDARD
BEGIN:DAYLIGHT
TZOFFSETFROM:+0100
TZOFFSETTO:+0200
TZNAME:CEST
DTSTART:20170326T010000
END:DAYLIGHT
BEGIN:STANDARD
TZOFFSETFROM:+0200
TZOFFSETTO:+0100
TZNAME:CET
DTSTART:20171029T010000
END:STANDARD
END:VTIMEZONE
BEGIN:VEVENT
DTSTART;TZID=Europe/Prague:20161019T170000
DTEND;TZID=Europe/Prague:20161019T170000
DTSTAMP:20260424T170806
CREATED:20190831T151802Z
LAST-MODIFIED:20190831T151802Z
UID:1257-1476896400-1476896400@www.luxor.cz
SUMMARY:Autogramiáda Roberta Vana
DESCRIPTION:Kniha fotografických vzpomínek Roberta Vana je sestavena z více než sto devadesáti snímků\, pocházejících z archivu fotografa. Kromě černobílých\nfotografií tu umělec poprvé zveřejňuje také barevné snímky. Významná\nčást této velkolepé kolekce vznikla v New Yorku\, Paříži\, Miláně a\ndalších destinacích. Kniha přináší průřez jeho tvorbou od roku 1968 až\npo současnost\, nikoli však tradičně v chronologickém pořadí\, ale na\nzákladě asociací samotného autora. Memories jsou výjimečnou\nfotografickou publikací\, která je určena fanouškům díla Roberta Vana i\nvšem milovníkům klasické a módní fotografie.
URL:https://www.luxor.cz/blog/akce/autogramiada-roberta-vana-3/
LOCATION:Palác knih Luxor\, Václavské náměstí 820/41\, Praha 1\, 11000\, Česká republika
ORGANIZER;CN="Luxor":MAILTO:info@luxor.cz
END:VEVENT
END:VCALENDAR