BEGIN:VCALENDAR
VERSION:2.0
PRODID:-//Blog knihkupectví Luxor - ECPv6.15.20//NONSGML v1.0//EN
CALSCALE:GREGORIAN
METHOD:PUBLISH
X-ORIGINAL-URL:https://www.luxor.cz/blog
X-WR-CALDESC:Akce na Blog knihkupectví Luxor
REFRESH-INTERVAL;VALUE=DURATION:PT1H
X-Robots-Tag:noindex
X-PUBLISHED-TTL:PT1H
BEGIN:VTIMEZONE
TZID:Europe/Prague
BEGIN:DAYLIGHT
TZOFFSETFROM:+0100
TZOFFSETTO:+0200
TZNAME:CEST
DTSTART:20150329T010000
END:DAYLIGHT
BEGIN:STANDARD
TZOFFSETFROM:+0200
TZOFFSETTO:+0100
TZNAME:CET
DTSTART:20151025T010000
END:STANDARD
BEGIN:DAYLIGHT
TZOFFSETFROM:+0100
TZOFFSETTO:+0200
TZNAME:CEST
DTSTART:20160327T010000
END:DAYLIGHT
BEGIN:STANDARD
TZOFFSETFROM:+0200
TZOFFSETTO:+0100
TZNAME:CET
DTSTART:20161030T010000
END:STANDARD
BEGIN:DAYLIGHT
TZOFFSETFROM:+0100
TZOFFSETTO:+0200
TZNAME:CEST
DTSTART:20170326T010000
END:DAYLIGHT
BEGIN:STANDARD
TZOFFSETFROM:+0200
TZOFFSETTO:+0100
TZNAME:CET
DTSTART:20171029T010000
END:STANDARD
END:VTIMEZONE
BEGIN:VEVENT
DTSTART;TZID=Europe/Prague:20161013T160000
DTEND;TZID=Europe/Prague:20161013T160000
DTSTAMP:20260424T171029
CREATED:20190831T151800Z
LAST-MODIFIED:20190831T151800Z
UID:1254-1476374400-1476374400@www.luxor.cz
SUMMARY:Křest knihy Wabiho Daňka
DESCRIPTION:Knižní rozhovor s legendou české folkové scény a autorem nesmrtelné\nhymny Rosa na kolejích\, není uctivým mapováním zpěvákových životních\nmilníků\, o kterých jeho fanoušci vědí snad všechno. Naopak nachází\ntémata\, o nichž Wabi Daněk ještě nemluvil.\n\nJaké to bylo vyrůstat v 50. letech bez otce\, který byl ve vězení za\nzkonstruované obvinění. Co mu zabránilo v roce 1968 emigrovat. Jak moc\nvstřícné jsou folkové fanynky a kdy a proč začal jejich vábení odolávat.\n Co říká na události posledních let a zda se bojí o budoucnost naší\nzemě. Ale také o tom\, jaké jsou vztahy mezi muzikanty\, co stahuje na\ninternetu\, kdy lže\, a jak je někdy těžké se nenapít v zemi\, kde\nsklenička alkoholu patří mezi společenské rituály. \nKniha Neublížit (… a neposrat se) je tak velmi otevřená a intimní\, a\nnavíc si uchovává živost rozhovoru dvou lidí\, kteří nad šálkem kávy nebo\n zázvorového čaje (to je ta přísná životospráva) klábosí o životě.\n\nWabi Daněk nepatří mezi lidi\, kteří plýtvají slovy. Dokáže naopak často\naž nemilosrdně a trefně pojmenovat pravou příčinu věcí. A to je něco\, co\n je v dnešní až „překorektnělé“ době nesmírně osvěžující\, a pro co stojí\n za to téhle knize věnovat pozornost.
URL:https://www.luxor.cz/blog/akce/krest-knihy-wabiho-danka--806/
LOCATION:Palác knih Luxor\, Václavské náměstí 820/41\, Praha 1\, 11000\, Česká republika
ORGANIZER;CN="Luxor":MAILTO:info@luxor.cz
END:VEVENT
BEGIN:VEVENT
DTSTART;TZID=Europe/Prague:20161013T180000
DTEND;TZID=Europe/Prague:20161013T180000
DTSTAMP:20260424T171029
CREATED:20190831T151805Z
LAST-MODIFIED:20190831T151805Z
UID:1266-1476381600-1476381600@www.luxor.cz
SUMMARY:Křest diáře Dary Rolins
DESCRIPTION:Diář Rok podle Dary v tuhé knižní vazbě ve formátu 13 × 21 centimetrů\nobsahuje 172 vnitřních stran a týdenní kalendárium ve dvou verzích:\nčeské a slovenské. Na stránkách naleznete 26 fotografií ze zpěvaččina\nsoukromí\, 28 stran textu (rady\, recepty\, postřehy)\, Dařiny tipy na\nzdravý životní styl (dieta\, cvičení\, superfoods) a dostatek místa pro\nvlastní poznámky. Velmi praktický je i přehled všech svátků.
URL:https://www.luxor.cz/blog/akce/krest-diare-dary-rolins--818/
LOCATION:Palác knih Luxor\, Václavské náměstí 820/41\, Praha 1\, 11000\, Česká republika
ORGANIZER;CN="Luxor":MAILTO:info@luxor.cz
END:VEVENT
END:VCALENDAR