BEGIN:VCALENDAR
VERSION:2.0
PRODID:-//Blog knihkupectví Luxor - ECPv6.15.20//NONSGML v1.0//EN
CALSCALE:GREGORIAN
METHOD:PUBLISH
X-WR-CALNAME:Blog knihkupectví Luxor
X-ORIGINAL-URL:https://www.luxor.cz/blog
X-WR-CALDESC:Akce na Blog knihkupectví Luxor
REFRESH-INTERVAL;VALUE=DURATION:PT1H
X-Robots-Tag:noindex
X-PUBLISHED-TTL:PT1H
BEGIN:VTIMEZONE
TZID:Europe/Prague
BEGIN:DAYLIGHT
TZOFFSETFROM:+0100
TZOFFSETTO:+0200
TZNAME:CEST
DTSTART:20150329T010000
END:DAYLIGHT
BEGIN:STANDARD
TZOFFSETFROM:+0200
TZOFFSETTO:+0100
TZNAME:CET
DTSTART:20151025T010000
END:STANDARD
BEGIN:DAYLIGHT
TZOFFSETFROM:+0100
TZOFFSETTO:+0200
TZNAME:CEST
DTSTART:20160327T010000
END:DAYLIGHT
BEGIN:STANDARD
TZOFFSETFROM:+0200
TZOFFSETTO:+0100
TZNAME:CET
DTSTART:20161030T010000
END:STANDARD
BEGIN:DAYLIGHT
TZOFFSETFROM:+0100
TZOFFSETTO:+0200
TZNAME:CEST
DTSTART:20170326T010000
END:DAYLIGHT
BEGIN:STANDARD
TZOFFSETFROM:+0200
TZOFFSETTO:+0100
TZNAME:CET
DTSTART:20171029T010000
END:STANDARD
END:VTIMEZONE
BEGIN:VEVENT
DTSTART;TZID=Europe/Prague:20161011T170000
DTEND;TZID=Europe/Prague:20161011T170000
DTSTAMP:20260424T170805
CREATED:20190831T151800Z
LAST-MODIFIED:20190831T151800Z
UID:1252-1476205200-1476205200@www.luxor.cz
SUMMARY:Křest knihy Pavla Kožíška
DESCRIPTION:Kouzelnická knížka je určena pro ty úplně nejmenší kouzelníky. Slavný\nkouzelník Pavel Kožíšek si pro ně připravil malý výlet do jinak přísně\nstřeženého zákulisí světa kouzel a magie. Všechna kouzla jsou vybrána\ntak\, aby je děti s pomocí rodičů nebo staršího kamaráda samy zvládly. Ke\n kouzlení nejsou zapotřebí žádné speciální kouzelnické rekvizity\, vše\, s\n čím se bude čarovat\, najde každý doma nebo si snadno obstará.Knížku\n doprovázejí ilustrace Libora Drobného\, z nichž malí adepti čar a kouzel\n snadno pochopí\, jak na to\, a během chvilky se stanou opravdovými\nkouzelníky. Součástí knihy je i volná vstupenka do Divadla kouzel Pavla\nKožíška!Pavel Kožíšek je populární český kouzelník\, mistr republiky i\n světa v kouzelnickém umění\, pořadatel celé řady iluzionistických akcí\npro děti i dospělé a účastník stovek televizních show doma i v\nzahraničí.
URL:https://www.luxor.cz/blog/akce/krest-knihy-pavla-koziska--804/
LOCATION:Palác knih Luxor\, Václavské náměstí 820/41\, Praha 1\, 11000\, Česká republika
ORGANIZER;CN="Luxor":MAILTO:info@luxor.cz
END:VEVENT
END:VCALENDAR