BEGIN:VCALENDAR
VERSION:2.0
PRODID:-//Blog knihkupectví Luxor - ECPv6.15.20//NONSGML v1.0//EN
CALSCALE:GREGORIAN
METHOD:PUBLISH
X-WR-CALNAME:Blog knihkupectví Luxor
X-ORIGINAL-URL:https://www.luxor.cz/blog
X-WR-CALDESC:Akce na Blog knihkupectví Luxor
REFRESH-INTERVAL;VALUE=DURATION:PT1H
X-Robots-Tag:noindex
X-PUBLISHED-TTL:PT1H
BEGIN:VTIMEZONE
TZID:Europe/Prague
BEGIN:DAYLIGHT
TZOFFSETFROM:+0100
TZOFFSETTO:+0200
TZNAME:CEST
DTSTART:20150329T010000
END:DAYLIGHT
BEGIN:STANDARD
TZOFFSETFROM:+0200
TZOFFSETTO:+0100
TZNAME:CET
DTSTART:20151025T010000
END:STANDARD
BEGIN:DAYLIGHT
TZOFFSETFROM:+0100
TZOFFSETTO:+0200
TZNAME:CEST
DTSTART:20160327T010000
END:DAYLIGHT
BEGIN:STANDARD
TZOFFSETFROM:+0200
TZOFFSETTO:+0100
TZNAME:CET
DTSTART:20161030T010000
END:STANDARD
BEGIN:DAYLIGHT
TZOFFSETFROM:+0100
TZOFFSETTO:+0200
TZNAME:CEST
DTSTART:20170326T010000
END:DAYLIGHT
BEGIN:STANDARD
TZOFFSETFROM:+0200
TZOFFSETTO:+0100
TZNAME:CET
DTSTART:20171029T010000
END:STANDARD
END:VTIMEZONE
BEGIN:VEVENT
DTSTART;TZID=Europe/Prague:20161010T153000
DTEND;TZID=Europe/Prague:20161010T153000
DTSTAMP:20260424T170734
CREATED:20190831T151757Z
LAST-MODIFIED:20190831T151757Z
UID:1246-1476113400-1476113400@www.luxor.cz
SUMMARY:Autogramiáda Chucka Palahniuka
DESCRIPTION:Charles Michael Palahniuk je současný americký postmoderní spisovatel. Věnuje se\n(mnohdy na hranici horroru) depresivním tématům na pozadí současné\namerické společnosti\, čerpá ze svých vlastních frustrací a vlastní\nnovinářské kariéry\, jeho díla končí téměř vždy tragicky. Jeho romány\nbyly zprvu nakladateli odmítány jako příliš temné a depresivní\, brzy se\nale staly kultovními. Jeho nejvýznamnějším dílem je jeho prvotina Klub\nrváčů (v originále Fight Club\, 1996)\, zfilmovaná v roce 1999 režisérem\nDavidem Fincherem. Literární styl Chucka Palahniuka je jím samým charakterizován jako\nminimalistický\, charakteristické jsou krátké a jednoduše členěné věty\,\npoužívá ale mnoho metafor či metaforických paralel k textu (jakýchsi\nnázorných příkladů k tezím obsaženým v románu).
URL:https://www.luxor.cz/blog/akce/autogramiada-chucka-palahniuka--798/
LOCATION:Palác knih Luxor\, Václavské náměstí 820/41\, Praha 1\, 11000\, Česká republika
ORGANIZER;CN="Luxor":MAILTO:info@luxor.cz
END:VEVENT
END:VCALENDAR