BEGIN:VCALENDAR
VERSION:2.0
PRODID:-//Blog knihkupectví Luxor - ECPv6.15.20//NONSGML v1.0//EN
CALSCALE:GREGORIAN
METHOD:PUBLISH
X-WR-CALNAME:Blog knihkupectví Luxor
X-ORIGINAL-URL:https://www.luxor.cz/blog
X-WR-CALDESC:Akce na Blog knihkupectví Luxor
REFRESH-INTERVAL;VALUE=DURATION:PT1H
X-Robots-Tag:noindex
X-PUBLISHED-TTL:PT1H
BEGIN:VTIMEZONE
TZID:Europe/Prague
BEGIN:DAYLIGHT
TZOFFSETFROM:+0100
TZOFFSETTO:+0200
TZNAME:CEST
DTSTART:20150329T010000
END:DAYLIGHT
BEGIN:STANDARD
TZOFFSETFROM:+0200
TZOFFSETTO:+0100
TZNAME:CET
DTSTART:20151025T010000
END:STANDARD
BEGIN:DAYLIGHT
TZOFFSETFROM:+0100
TZOFFSETTO:+0200
TZNAME:CEST
DTSTART:20160327T010000
END:DAYLIGHT
BEGIN:STANDARD
TZOFFSETFROM:+0200
TZOFFSETTO:+0100
TZNAME:CET
DTSTART:20161030T010000
END:STANDARD
BEGIN:DAYLIGHT
TZOFFSETFROM:+0100
TZOFFSETTO:+0200
TZNAME:CEST
DTSTART:20170326T010000
END:DAYLIGHT
BEGIN:STANDARD
TZOFFSETFROM:+0200
TZOFFSETTO:+0100
TZNAME:CET
DTSTART:20171029T010000
END:STANDARD
END:VTIMEZONE
BEGIN:VEVENT
DTSTART;TZID=Europe/Prague:20161005T170000
DTEND;TZID=Europe/Prague:20161005T170000
DTSTAMP:20260424T170734
CREATED:20190831T151758Z
LAST-MODIFIED:20190831T151758Z
UID:1250-1475686800-1475686800@www.luxor.cz
SUMMARY:Slavnostní uvedení knihy Václava Větvičky
DESCRIPTION:Když se řekne vlastivěda\, člověk si zpravidla vybaví slepé mapy řek\,\nměst či pohoří\, zkoušení z toho\, jaké plodiny se pěstují na jižní\nMoravě\, případně jaký průmysl převládá na Ostravsku. A ne vždy jsou tyto\n školní vzpomínky příjemné.\nVlastivěda v podání Václava Větvičky ovšem není žádné nudné\nmemorování. Autora pořadů Dobré jitro na stanici Dvojka Českého rozhlasu\n totiž putování po vlasti baví\, a když nás něco baví\, jde poznávání\nnového jaksi samo od sebe. Zkoušeli jste se třeba někdy zamyslet nad\ntím\, kolik místních názvů je odvozeno od jmen zvířat – a proč? A že to\nnejsou jen Ovčáry\, Kravaře nebo Telecí! Nebo v kolika názvech se skrývá\nnějaká číslovka? Znáte třeba Třibřichy nebo Sedmidomí? Nemusíte si lámat\n hlavu sami\, autor vás na spoustu takových míst zavede. Jsou-li krajinou\n vašeho srdce lesy\, pak s ním rádi zavítáte na Šumavu\, láká-li vás\nvlastivěda bájeslovná\, pak jistě nevynecháte Podblanicko.\nNajděte si na stránkách této knížky krajinu svého vlastního srdce – Václav Větvička\ndokáže svým vyprávěním zaujmout a nadchnout\, ba přímo otevřít oči pro vše zdánlivě obyčejné kolem nás.
URL:https://www.luxor.cz/blog/akce/slavnostni-uvedeni-knihy-vaclava-vetvicky-2/
LOCATION:Palác knih Luxor\, Václavské náměstí 820/41\, Praha 1\, 11000\, Česká republika
ORGANIZER;CN="Luxor":MAILTO:info@luxor.cz
END:VEVENT
END:VCALENDAR