BEGIN:VCALENDAR
VERSION:2.0
PRODID:-//Blog knihkupectví Luxor - ECPv6.15.20//NONSGML v1.0//EN
CALSCALE:GREGORIAN
METHOD:PUBLISH
X-ORIGINAL-URL:https://www.luxor.cz/blog
X-WR-CALDESC:Akce na Blog knihkupectví Luxor
REFRESH-INTERVAL;VALUE=DURATION:PT1H
X-Robots-Tag:noindex
X-PUBLISHED-TTL:PT1H
BEGIN:VTIMEZONE
TZID:Europe/Prague
BEGIN:DAYLIGHT
TZOFFSETFROM:+0100
TZOFFSETTO:+0200
TZNAME:CEST
DTSTART:20150329T010000
END:DAYLIGHT
BEGIN:STANDARD
TZOFFSETFROM:+0200
TZOFFSETTO:+0100
TZNAME:CET
DTSTART:20151025T010000
END:STANDARD
BEGIN:DAYLIGHT
TZOFFSETFROM:+0100
TZOFFSETTO:+0200
TZNAME:CEST
DTSTART:20160327T010000
END:DAYLIGHT
BEGIN:STANDARD
TZOFFSETFROM:+0200
TZOFFSETTO:+0100
TZNAME:CET
DTSTART:20161030T010000
END:STANDARD
BEGIN:DAYLIGHT
TZOFFSETFROM:+0100
TZOFFSETTO:+0200
TZNAME:CEST
DTSTART:20170326T010000
END:DAYLIGHT
BEGIN:STANDARD
TZOFFSETFROM:+0200
TZOFFSETTO:+0100
TZNAME:CET
DTSTART:20171029T010000
END:STANDARD
END:VTIMEZONE
BEGIN:VEVENT
DTSTART;TZID=Europe/Prague:20161003T170000
DTEND;TZID=Europe/Prague:20161003T170000
DTSTAMP:20260424T171029
CREATED:20190831T151758Z
LAST-MODIFIED:20190831T151758Z
UID:1248-1475514000-1475514000@www.luxor.cz
SUMMARY:Křest knihy Blanky Řezníčkové
DESCRIPTION:Kniha odlehčeným až humorným stylem popisuje cestu okolo Islandu\, kde\njsme točili dokument. Přesný itinerář jsme neměli – rozhodli jsme se jet\n po hlavní islandské silnici kolem dokola a nechávali se překvapovat\nkrásami tohoto fascinujícího kousku planety. A samozřejmě navštívili\nvětšinu důležitých turistických bodů. Kniha je psána formou\ncestovatelského deníku\, zároveň uvádí spoustu skutečností a reálií\nostrova. Při psaní jsem spolupracovala s odborníky z oblasti geologie\,\npřírodopisu\, rodilým Islanďanem a dalšími. Poskytuji zde tedy objektivní\n informace pro nové návštěvníky této neskonale krásné\, překvapující a\núchvatné destinace. Snažila jsem se\, aby kniha motivovala čtenáře k\nnávštěvě. Zároveň jim dodávám praktické informace ze života na Islandu.
URL:https://www.luxor.cz/blog/akce/krest-knihy-blanky-reznickove--800/
LOCATION:Palác knih Luxor\, Václavské náměstí 820/41\, Praha 1\, 11000\, Česká republika
ORGANIZER;CN="Luxor":MAILTO:info@luxor.cz
END:VEVENT
END:VCALENDAR