BEGIN:VCALENDAR
VERSION:2.0
PRODID:-//Blog knihkupectví Luxor - ECPv6.15.20//NONSGML v1.0//EN
CALSCALE:GREGORIAN
METHOD:PUBLISH
X-ORIGINAL-URL:https://www.luxor.cz/blog
X-WR-CALDESC:Akce na Blog knihkupectví Luxor
REFRESH-INTERVAL;VALUE=DURATION:PT1H
X-Robots-Tag:noindex
X-PUBLISHED-TTL:PT1H
BEGIN:VTIMEZONE
TZID:Europe/Prague
BEGIN:DAYLIGHT
TZOFFSETFROM:+0100
TZOFFSETTO:+0200
TZNAME:CEST
DTSTART:20150329T010000
END:DAYLIGHT
BEGIN:STANDARD
TZOFFSETFROM:+0200
TZOFFSETTO:+0100
TZNAME:CET
DTSTART:20151025T010000
END:STANDARD
BEGIN:DAYLIGHT
TZOFFSETFROM:+0100
TZOFFSETTO:+0200
TZNAME:CEST
DTSTART:20160327T010000
END:DAYLIGHT
BEGIN:STANDARD
TZOFFSETFROM:+0200
TZOFFSETTO:+0100
TZNAME:CET
DTSTART:20161030T010000
END:STANDARD
BEGIN:DAYLIGHT
TZOFFSETFROM:+0100
TZOFFSETTO:+0200
TZNAME:CEST
DTSTART:20170326T010000
END:DAYLIGHT
BEGIN:STANDARD
TZOFFSETFROM:+0200
TZOFFSETTO:+0100
TZNAME:CET
DTSTART:20171029T010000
END:STANDARD
END:VTIMEZONE
BEGIN:VEVENT
DTSTART;TZID=Europe/Prague:20160926T160000
DTEND;TZID=Europe/Prague:20160926T160000
DTSTAMP:20260424T171040
CREATED:20190831T151756Z
LAST-MODIFIED:20190831T151756Z
UID:1244-1474905600-1474905600@www.luxor.cz
SUMMARY:Křest unikátní publikace
DESCRIPTION:Dějiny\, osobnosti\, denní život \n\nPrvní kniha Živé historie\nObsahuje 55 artefaktů – kopií unikátních\n     historických dokumentů\nK dostání v knihkupectvích (v první polovině roku\n     2016) \n\nZískáte originální publikaci\, přibližující uceleně historické mezníky i\ndenní život za první republiky. K první republice máme tendenci vracet se\ns jistou nostalgií\, přestože víme\, že měla své nedostatky. Vidíme ji jako\nnadějný počátek vývoje samostatného československého státu\, jehož existenci\nnásilně přervala mnichovská velmocenská politika a nacistická agrese\, po níž\nnásledovalo dlouhé období totalitního režimu.
URL:https://www.luxor.cz/blog/akce/krest-unikatni-publikace--795/
LOCATION:Palác knih Luxor\, Václavské náměstí 820/41\, Praha 1\, 11000\, Česká republika
ORGANIZER;CN="Luxor":MAILTO:info@luxor.cz
END:VEVENT
END:VCALENDAR