BEGIN:VCALENDAR
VERSION:2.0
PRODID:-//Blog knihkupectví Luxor - ECPv6.15.20//NONSGML v1.0//EN
CALSCALE:GREGORIAN
METHOD:PUBLISH
X-WR-CALNAME:Blog knihkupectví Luxor
X-ORIGINAL-URL:https://www.luxor.cz/blog
X-WR-CALDESC:Akce na Blog knihkupectví Luxor
REFRESH-INTERVAL;VALUE=DURATION:PT1H
X-Robots-Tag:noindex
X-PUBLISHED-TTL:PT1H
BEGIN:VTIMEZONE
TZID:Europe/Prague
BEGIN:DAYLIGHT
TZOFFSETFROM:+0100
TZOFFSETTO:+0200
TZNAME:CEST
DTSTART:20150329T010000
END:DAYLIGHT
BEGIN:STANDARD
TZOFFSETFROM:+0200
TZOFFSETTO:+0100
TZNAME:CET
DTSTART:20151025T010000
END:STANDARD
BEGIN:DAYLIGHT
TZOFFSETFROM:+0100
TZOFFSETTO:+0200
TZNAME:CEST
DTSTART:20160327T010000
END:DAYLIGHT
BEGIN:STANDARD
TZOFFSETFROM:+0200
TZOFFSETTO:+0100
TZNAME:CET
DTSTART:20161030T010000
END:STANDARD
BEGIN:DAYLIGHT
TZOFFSETFROM:+0100
TZOFFSETTO:+0200
TZNAME:CEST
DTSTART:20170326T010000
END:DAYLIGHT
BEGIN:STANDARD
TZOFFSETFROM:+0200
TZOFFSETTO:+0100
TZNAME:CET
DTSTART:20171029T010000
END:STANDARD
END:VTIMEZONE
BEGIN:VEVENT
DTSTART;TZID=Europe/Prague:20160921T170000
DTEND;TZID=Europe/Prague:20160921T170000
DTSTAMP:20260424T183500
CREATED:20190831T151754Z
LAST-MODIFIED:20190831T151754Z
UID:1239-1474477200-1474477200@www.luxor.cz
SUMMARY:Křest knihy Fenomén Trump
DESCRIPTION:Autor knihy\,\nspisovatel a komentátor Tomáš Klvaňa (1967) žil řadu let ve Spojených státech\,\nkde působil na tamních univerzitách. Nyní přednáší jako hostující profesor na\nprestižní New York University a připívá do řady českých\, západoevropských i\namerických periodik. \nKniha Fenomén\nTrump s podtitulem Poslední vzpoura bílých mužů přináší\npřekvapivý pohled na současný svět\, v němž vše navzájem souvisí: problém\nuprchlíků v Evropě\, masivní rozvoj sociálních sítí\, mocenský ústup dosavadních\nelit\, feminismus i nástup politiků jako je Donald Trump nebo Miloš Zeman.  \nKniha zdaleka\nnení jen o Trumpovi nebo Americe a činí tak mimořádně atraktivní formou\npříběhů.
URL:https://www.luxor.cz/blog/akce/krest-knihy-fenomen-trump/
LOCATION:Palác knih Luxor\, Václavské náměstí 820/41\, Praha 1\, 11000\, Česká republika
ORGANIZER;CN="Luxor":MAILTO:info@luxor.cz
END:VEVENT
END:VCALENDAR