BEGIN:VCALENDAR
VERSION:2.0
PRODID:-//Blog knihkupectví Luxor - ECPv6.15.20//NONSGML v1.0//EN
CALSCALE:GREGORIAN
METHOD:PUBLISH
X-WR-CALNAME:Blog knihkupectví Luxor
X-ORIGINAL-URL:https://www.luxor.cz/blog
X-WR-CALDESC:Akce na Blog knihkupectví Luxor
REFRESH-INTERVAL;VALUE=DURATION:PT1H
X-Robots-Tag:noindex
X-PUBLISHED-TTL:PT1H
BEGIN:VTIMEZONE
TZID:Europe/Prague
BEGIN:DAYLIGHT
TZOFFSETFROM:+0100
TZOFFSETTO:+0200
TZNAME:CEST
DTSTART:20150329T010000
END:DAYLIGHT
BEGIN:STANDARD
TZOFFSETFROM:+0200
TZOFFSETTO:+0100
TZNAME:CET
DTSTART:20151025T010000
END:STANDARD
BEGIN:DAYLIGHT
TZOFFSETFROM:+0100
TZOFFSETTO:+0200
TZNAME:CEST
DTSTART:20160327T010000
END:DAYLIGHT
BEGIN:STANDARD
TZOFFSETFROM:+0200
TZOFFSETTO:+0100
TZNAME:CET
DTSTART:20161030T010000
END:STANDARD
BEGIN:DAYLIGHT
TZOFFSETFROM:+0100
TZOFFSETTO:+0200
TZNAME:CEST
DTSTART:20170326T010000
END:DAYLIGHT
BEGIN:STANDARD
TZOFFSETFROM:+0200
TZOFFSETTO:+0100
TZNAME:CET
DTSTART:20171029T010000
END:STANDARD
END:VTIMEZONE
BEGIN:VEVENT
DTSTART;TZID=Europe/Prague:20160920T150000
DTEND;TZID=Europe/Prague:20160920T150000
DTSTAMP:20260424T182717
CREATED:20190831T151754Z
LAST-MODIFIED:20190831T151754Z
UID:1237-1474383600-1474383600@www.luxor.cz
SUMMARY:Autogramiáda Zdeňka Svěráka a Jaroslava Uhlíře
DESCRIPTION:Máte rádi písničky Zdeňka Svěráka a Jaroslava Uhlíře? V tomto úžasném\nzpěvníku najdete nejnovější hity z dílny oblíbených autorů. Jsou zde\nnejen s texty\, notami a akordy\, ale i s kouzelnými obrázky Vlasty\nBaránkové. Tato knížka je skvělou pomůckou také pro paní učitelky nebo\nvychovatelky\, které děti doprovázejí na hudební nástroj – klavír\, kytaru\n nebo flétnu. \n\n Do tohoto zpěvníku se vešlo na čtyřicet písniček. To by v tom byl hrom\,\n abyste si nevybrali aspoň pět kousků\, které vašemu uchu zalahodí. Kdo\nchce veselou\, tomu doporučujeme Saskou polku nebo Věruš. Dojímavým\npovahám by mohla přijít vhod Komu se stýská nebo Pámbíčku\, stůj při mně.\n Eskymaček je zamilovaná věc. A pro matematiky tu máme Úsudkový příklad.\n V každém případě zpívejte s chutí\, jinak to nemá cenu.
URL:https://www.luxor.cz/blog/akce/autogramiada-zdenka-sveraka-a-jaroslava-uhlire--788/
LOCATION:Palác knih Luxor\, Václavské náměstí 820/41\, Praha 1\, 11000\, Česká republika
ORGANIZER;CN="Luxor":MAILTO:info@luxor.cz
END:VEVENT
BEGIN:VEVENT
DTSTART;TZID=Europe/Prague:20160920T170000
DTEND;TZID=Europe/Prague:20160920T170000
DTSTAMP:20260424T182717
CREATED:20190831T151750Z
LAST-MODIFIED:20190831T151750Z
UID:1231-1474390800-1474390800@www.luxor.cz
SUMMARY:Křest knihy Michaely Dombrovské
DESCRIPTION:Seznamte se s novou knihou autorky bestsellerů „Pravidla pozitivního\nsobectví“ a „Kreativní diář“. Vydejte se na čtyřtýdenní očistu nejen\nsvého těla\, ale také vztahů\, prostoru kolem sebe i své mysli. Díky\nspoustě skvělých tipů a názorných příběhů budete mít za pouhých 28 dní\nhotový úklid ve čtyřech důležitých oblastech svého života. Očista vám\npřinese pocit svobody\, příliv nové energie\, nápadů a objevů. Oddechnete\nsi od nepořádku nejen kolem sebe\, ale i v sobě\, vyřešíte nefunkční\nvztahy\, začnete lépe pečovat o své zdraví a pročistíte a uspořádáte si i\n svou mysl. \nKniha je inspirována pozitivní psychologií a prostoupena minimalismem.\nNaučíte se soustředit v životě na to dobré a obohacující\, zbavovat se\nzbytečného balastu\, pečovat o to\, co je podstatné\, a vážit si dobrých\nvztahů i okamžiků. Není nač čekat!
URL:https://www.luxor.cz/blog/akce/krest-knihy-michaely-dombrovske--782/
LOCATION:Palác knih Luxor\, Václavské náměstí 820/41\, Praha 1\, 11000\, Česká republika
ORGANIZER;CN="Luxor":MAILTO:info@luxor.cz
END:VEVENT
END:VCALENDAR