BEGIN:VCALENDAR
VERSION:2.0
PRODID:-//Blog knihkupectví Luxor - ECPv6.15.20//NONSGML v1.0//EN
CALSCALE:GREGORIAN
METHOD:PUBLISH
X-WR-CALNAME:Blog knihkupectví Luxor
X-ORIGINAL-URL:https://www.luxor.cz/blog
X-WR-CALDESC:Akce na Blog knihkupectví Luxor
REFRESH-INTERVAL;VALUE=DURATION:PT1H
X-Robots-Tag:noindex
X-PUBLISHED-TTL:PT1H
BEGIN:VTIMEZONE
TZID:Europe/Prague
BEGIN:DAYLIGHT
TZOFFSETFROM:+0100
TZOFFSETTO:+0200
TZNAME:CEST
DTSTART:20150329T010000
END:DAYLIGHT
BEGIN:STANDARD
TZOFFSETFROM:+0200
TZOFFSETTO:+0100
TZNAME:CET
DTSTART:20151025T010000
END:STANDARD
BEGIN:DAYLIGHT
TZOFFSETFROM:+0100
TZOFFSETTO:+0200
TZNAME:CEST
DTSTART:20160327T010000
END:DAYLIGHT
BEGIN:STANDARD
TZOFFSETFROM:+0200
TZOFFSETTO:+0100
TZNAME:CET
DTSTART:20161030T010000
END:STANDARD
BEGIN:DAYLIGHT
TZOFFSETFROM:+0100
TZOFFSETTO:+0200
TZNAME:CEST
DTSTART:20170326T010000
END:DAYLIGHT
BEGIN:STANDARD
TZOFFSETFROM:+0200
TZOFFSETTO:+0100
TZNAME:CET
DTSTART:20171029T010000
END:STANDARD
END:VTIMEZONE
BEGIN:VEVENT
DTSTART;TZID=Europe/Prague:20160919T163000
DTEND;TZID=Europe/Prague:20160919T163000
DTSTAMP:20260424T183505
CREATED:20190831T151756Z
LAST-MODIFIED:20190831T151756Z
UID:1245-1474302600-1474302600@www.luxor.cz
SUMMARY:Autogramiáda ke knize Olympijský rok
DESCRIPTION:Reportéři Radiožurnálu celý rok den po dni sledovali přípravu devíti\nčeských sportovních hvězd na olympijské hry v Riu de Janeiro. Jejich\npozornosti neunikli Simona Baumrtová\, Anežka Drahotová\, Josef Dostál\,\nVavřinec Hradilek\, Alexander Choupenitch\, Jiří Ježek\, Lukáš Krpálek\,\nDavid Svoboda ani Lucie Šafářová. Otevře si Lucie Šafářová po olympiádě\nkavárnu? Proč Lukáš Krpálek plakal štěstím? Kde nejraději trénuje Jiří\nJežek? A jak chytá ryby Josef Dostál? I to najdete v této knize.
URL:https://www.luxor.cz/blog/akce/autogramiada-ke-knize-olympijsky-rok--797/
LOCATION:Palác knih Luxor\, Václavské náměstí 820/41\, Praha 1\, 11000\, Česká republika
ORGANIZER;CN="Luxor":MAILTO:info@luxor.cz
END:VEVENT
END:VCALENDAR