BEGIN:VCALENDAR
VERSION:2.0
PRODID:-//Blog knihkupectví Luxor - ECPv6.15.20//NONSGML v1.0//EN
CALSCALE:GREGORIAN
METHOD:PUBLISH
X-WR-CALNAME:Blog knihkupectví Luxor
X-ORIGINAL-URL:https://www.luxor.cz/blog
X-WR-CALDESC:Akce na Blog knihkupectví Luxor
REFRESH-INTERVAL;VALUE=DURATION:PT1H
X-Robots-Tag:noindex
X-PUBLISHED-TTL:PT1H
BEGIN:VTIMEZONE
TZID:Europe/Prague
BEGIN:DAYLIGHT
TZOFFSETFROM:+0100
TZOFFSETTO:+0200
TZNAME:CEST
DTSTART:20150329T010000
END:DAYLIGHT
BEGIN:STANDARD
TZOFFSETFROM:+0200
TZOFFSETTO:+0100
TZNAME:CET
DTSTART:20151025T010000
END:STANDARD
BEGIN:DAYLIGHT
TZOFFSETFROM:+0100
TZOFFSETTO:+0200
TZNAME:CEST
DTSTART:20160327T010000
END:DAYLIGHT
BEGIN:STANDARD
TZOFFSETFROM:+0200
TZOFFSETTO:+0100
TZNAME:CET
DTSTART:20161030T010000
END:STANDARD
BEGIN:DAYLIGHT
TZOFFSETFROM:+0100
TZOFFSETTO:+0200
TZNAME:CEST
DTSTART:20170326T010000
END:DAYLIGHT
BEGIN:STANDARD
TZOFFSETFROM:+0200
TZOFFSETTO:+0100
TZNAME:CET
DTSTART:20171029T010000
END:STANDARD
END:VTIMEZONE
BEGIN:VEVENT
DTSTART;TZID=Europe/Prague:20160914T170000
DTEND;TZID=Europe/Prague:20160914T170000
DTSTAMP:20260424T182717
CREATED:20190831T151752Z
LAST-MODIFIED:20190831T151752Z
UID:1235-1473872400-1473872400@www.luxor.cz
SUMMARY:Křest knihy Josefa Bernarda Prokopa
DESCRIPTION:Závěrečný díl Lucemburské pentalogie přináší zápisky\nze života posledního Lucemburka na českém trůnu – Zikmunda. Jestliže Václavova\nvláda\, i jeho osoba bývají posuzovány s rozpaky\, v případě Zikmunda\nbývá hodnocení většinou jednoznačné. Málokterý panovník bývá všemi tak\nzavrhován. Osobnost posledního Lucemburka na českém a posléze i římském trůnu\,\nje však mnohem zajímavější a složitější.  \nCo vlastně můžeme Zikmundovi vyčítat? Jaký byl\ndoopravdy? Nejspíš ode všeho trochu. Lépe vám však na to odpoví tato kniha\,\nkterá se snaží co nejvěrněji vylíčit jeho osudy. V mnohém vás opravdu\npřekvapí.
URL:https://www.luxor.cz/blog/akce/krest-knihy-josefa-bernarda-prokopa--786/
LOCATION:Palác knih Luxor\, Václavské náměstí 820/41\, Praha 1\, 11000\, Česká republika
ORGANIZER;CN="Luxor":MAILTO:info@luxor.cz
END:VEVENT
BEGIN:VEVENT
DTSTART;TZID=Europe/Prague:20160914T180000
DTEND;TZID=Europe/Prague:20160914T180000
DTSTAMP:20260424T182717
CREATED:20190831T151756Z
LAST-MODIFIED:20190831T151756Z
UID:1242-1473876000-1473876000@www.luxor.cz
SUMMARY:Autogramiáda Václava Klause ml.
DESCRIPTION:Každý týden\, již více než 2 roky\, píše Václav Klaus\nml. své břitké komentáře na serveru novinky.cz  \nNetýkají se jenom školství\, ale především nestárnou v\nčase. Není to pěna dní. \nKoneckonců přesvědčte se sami.  \nZ předmluvy Petra Nárožného:  \n…Tahle kniha se poctivě snaží\ndemaskovat úplně novou moderní totalitu\, která už delší dobu\, pro mnohé bohužel\nnepozorovaně\, přichází nejen k nám\, ale do celé staré Evropy. Tentokráte má\nmasku hodné a starostlivé mladé paní\, která nechce nic jiného\, než dobro pro\nnás pro všechny. A má-li to být sociálně spravedlivé\, musí to dobro být pro\nvšechny stejné. Jaké to bude dobro a hlavně\, co bude s těmi\, co ho nechtějí\, to\nrozhodne ta hodná paní. Ale né hned\, až později. A já dodávám\, že to už bude\npozdě. To už totiž ta hodná mladá paní odloží masku a ukáže se\, že je to zase\nta zlá\, krutá stařena\, která v Evropě už dvakrát byla. A vždycky převlečená za\nněco jiného. Moc bych si přál\, abych neměl pravdu…
URL:https://www.luxor.cz/blog/akce/autogramiada-vaclava-klause-ml-2/
LOCATION:Knihkupectví Forum\, OC Forum\, Liberec\, 46001\, Česká republika
ORGANIZER;CN="Luxor":MAILTO:info@luxor.cz
END:VEVENT
END:VCALENDAR