BEGIN:VCALENDAR
VERSION:2.0
PRODID:-//Blog knihkupectví Luxor - ECPv6.15.20//NONSGML v1.0//EN
CALSCALE:GREGORIAN
METHOD:PUBLISH
X-ORIGINAL-URL:https://www.luxor.cz/blog
X-WR-CALDESC:Akce na Blog knihkupectví Luxor
REFRESH-INTERVAL;VALUE=DURATION:PT1H
X-Robots-Tag:noindex
X-PUBLISHED-TTL:PT1H
BEGIN:VTIMEZONE
TZID:Europe/Prague
BEGIN:DAYLIGHT
TZOFFSETFROM:+0100
TZOFFSETTO:+0200
TZNAME:CEST
DTSTART:20150329T010000
END:DAYLIGHT
BEGIN:STANDARD
TZOFFSETFROM:+0200
TZOFFSETTO:+0100
TZNAME:CET
DTSTART:20151025T010000
END:STANDARD
BEGIN:DAYLIGHT
TZOFFSETFROM:+0100
TZOFFSETTO:+0200
TZNAME:CEST
DTSTART:20160327T010000
END:DAYLIGHT
BEGIN:STANDARD
TZOFFSETFROM:+0200
TZOFFSETTO:+0100
TZNAME:CET
DTSTART:20161030T010000
END:STANDARD
BEGIN:DAYLIGHT
TZOFFSETFROM:+0100
TZOFFSETTO:+0200
TZNAME:CEST
DTSTART:20170326T010000
END:DAYLIGHT
BEGIN:STANDARD
TZOFFSETFROM:+0200
TZOFFSETTO:+0100
TZNAME:CET
DTSTART:20171029T010000
END:STANDARD
END:VTIMEZONE
BEGIN:VEVENT
DTSTART;TZID=Europe/Prague:20160905T170000
DTEND;TZID=Europe/Prague:20160905T170000
DTSTAMP:20260424T182834
CREATED:20190831T151749Z
LAST-MODIFIED:20190831T151749Z
UID:1227-1473094800-1473094800@www.luxor.cz
SUMMARY:Prezentace nové knihy uznávané odbornice na výživu
DESCRIPTION:Tajemství biologických hodin \nKniha známé autorky populárně naučných\nknih přináší revoluční metodu léčby nemocí a posílení zdraví. Dozvíte se\nzajímavé informace o tom\, jaký význam mají biologické hodiny pro naše zdraví \na jak lze jejich prostřednictvím preventivně působit i léčit mnohé nemoci a\nzdravotní potíže. Začnete-li vnímat svoje biologické hodiny\, budete zdravější\,\nšťastnější a spokojenější!
URL:https://www.luxor.cz/blog/akce/prezentace-nove-knihy-uznavane-odbornice-na-vyzivu--778/
LOCATION:Palác knih Luxor\, Václavské náměstí 820/41\, Praha 1\, 11000\, Česká republika
ORGANIZER;CN="Luxor":MAILTO:info@luxor.cz
END:VEVENT
END:VCALENDAR