BEGIN:VCALENDAR
VERSION:2.0
PRODID:-//Blog knihkupectví Luxor - ECPv6.15.20//NONSGML v1.0//EN
CALSCALE:GREGORIAN
METHOD:PUBLISH
X-ORIGINAL-URL:https://www.luxor.cz/blog
X-WR-CALDESC:Akce na Blog knihkupectví Luxor
REFRESH-INTERVAL;VALUE=DURATION:PT1H
X-Robots-Tag:noindex
X-PUBLISHED-TTL:PT1H
BEGIN:VTIMEZONE
TZID:Europe/Prague
BEGIN:DAYLIGHT
TZOFFSETFROM:+0100
TZOFFSETTO:+0200
TZNAME:CEST
DTSTART:20150329T010000
END:DAYLIGHT
BEGIN:STANDARD
TZOFFSETFROM:+0200
TZOFFSETTO:+0100
TZNAME:CET
DTSTART:20151025T010000
END:STANDARD
BEGIN:DAYLIGHT
TZOFFSETFROM:+0100
TZOFFSETTO:+0200
TZNAME:CEST
DTSTART:20160327T010000
END:DAYLIGHT
BEGIN:STANDARD
TZOFFSETFROM:+0200
TZOFFSETTO:+0100
TZNAME:CET
DTSTART:20161030T010000
END:STANDARD
BEGIN:DAYLIGHT
TZOFFSETFROM:+0100
TZOFFSETTO:+0200
TZNAME:CEST
DTSTART:20170326T010000
END:DAYLIGHT
BEGIN:STANDARD
TZOFFSETFROM:+0200
TZOFFSETTO:+0100
TZNAME:CET
DTSTART:20171029T010000
END:STANDARD
END:VTIMEZONE
BEGIN:VEVENT
DTSTART;TZID=Europe/Prague:20160823T132300
DTEND;TZID=Europe/Prague:20160823T132300
DTSTAMP:20260424T200024
CREATED:20190831T151752Z
LAST-MODIFIED:20190831T151752Z
UID:1233-1471958580-1471958580@www.luxor.cz
SUMMARY:Back to school s Presco Group
DESCRIPTION:Pokud si v Paláci knih Luxor\, v knihkupectví Palladium nebo Chodov koupíte učebnice nebo papírenské zboží v hodnotě alespoň 499 Kč\, získáte dárek od Presco Group. Pro prvních 1000 zákazníků\, kteří nakoupí od 17. srpna 2016 máme batohy nebo tašky s rozvrhem hodin pro kluky i holky. Neplatí na pokladnách Knižního klubu.
URL:https://www.luxor.cz/blog/akce/back-to-school--784/
LOCATION:Knihkupectví Chodov\, Centrum Chodov\, Praha 4\, 14000\, Česká republika
ORGANIZER;CN="Luxor":MAILTO:info@luxor.cz
END:VEVENT
END:VCALENDAR