BEGIN:VCALENDAR
VERSION:2.0
PRODID:-//Blog knihkupectví Luxor - ECPv6.15.20//NONSGML v1.0//EN
CALSCALE:GREGORIAN
METHOD:PUBLISH
X-WR-CALNAME:Blog knihkupectví Luxor
X-ORIGINAL-URL:https://www.luxor.cz/blog
X-WR-CALDESC:Akce na Blog knihkupectví Luxor
REFRESH-INTERVAL;VALUE=DURATION:PT1H
X-Robots-Tag:noindex
X-PUBLISHED-TTL:PT1H
BEGIN:VTIMEZONE
TZID:Europe/Prague
BEGIN:DAYLIGHT
TZOFFSETFROM:+0100
TZOFFSETTO:+0200
TZNAME:CEST
DTSTART:20150329T010000
END:DAYLIGHT
BEGIN:STANDARD
TZOFFSETFROM:+0200
TZOFFSETTO:+0100
TZNAME:CET
DTSTART:20151025T010000
END:STANDARD
BEGIN:DAYLIGHT
TZOFFSETFROM:+0100
TZOFFSETTO:+0200
TZNAME:CEST
DTSTART:20160327T010000
END:DAYLIGHT
BEGIN:STANDARD
TZOFFSETFROM:+0200
TZOFFSETTO:+0100
TZNAME:CET
DTSTART:20161030T010000
END:STANDARD
BEGIN:DAYLIGHT
TZOFFSETFROM:+0100
TZOFFSETTO:+0200
TZNAME:CEST
DTSTART:20170326T010000
END:DAYLIGHT
BEGIN:STANDARD
TZOFFSETFROM:+0200
TZOFFSETTO:+0100
TZNAME:CET
DTSTART:20171029T010000
END:STANDARD
END:VTIMEZONE
BEGIN:VEVENT
DTSTART;TZID=Europe/Prague:20160628T084000
DTEND;TZID=Europe/Prague:20160628T084000
DTSTAMP:20260424T210842
CREATED:20190831T151746Z
LAST-MODIFIED:20190831T151746Z
UID:1219-1467103200-1467103200@www.luxor.cz
SUMMARY:Happy Hours v úterý
DESCRIPTION:Akce platí na knižní i neknižní zboží vždy po dobu 1 hodiny za den v konkrétním knihkupectví (viz harmonogram níže). Nelze ji kombinovat s dalšími slevami\, nelze využít na pokladnách Knižního klubu. Neplatí v e-shopu\, ale je možné ji využít při osobním odběru\, pokud budete knihy vyzvedávat v době platnosti akce (nekombinuje se pak s online slevou). Happy Hours připravujeme až do 30. června. Přehled a umístění všech poboček \nDnešní Happy Hours s 20% slevou na vše:\n \n\n\n\nPalác knih Luxor\, Praha\n\n16:00-17:00\n\n\nKnihkupectví Nový Smíchov\, Praha\n\n19:00-20:00\n\n\nKnihkupectví Flora\, Praha\n\n17:00-18:00\n\n\nKnihkupectví DBK Budějovická\, Praha\n\n17:00-18:00\n\n\nKnihkupectví Europark Štěrboholy\, Praha\n\n16:00-17:00\n\n\nKnihkupectví Florentinum\, Praha\n\n15:00-16:00\n\n\nKnihkupectví Moritz\, Olomouc\n\n14:00-15:00\n\n\nKnihkupectví u Černé věže\, České Budějovice\n\n16:00-17:00\n\n\nKnihkupectví Laso\, Ostrava\n\n15:00-16:00\n\n\nKnihkupectví Chomutovka\, Chomutov\n\n15:00-16:00\n\n\nKnihkupectví Central Kladno\, Kladno\n\n16:00-17:00
URL:https://www.luxor.cz/blog/akce/happy-hours-v-utery-7/
LOCATION:Knihkupectví Central Kladno\, Petra Bezruče 3388\, Kladno\, 27201\, Česká republika
ORGANIZER;CN="Luxor":MAILTO:info@luxor.cz
END:VEVENT
END:VCALENDAR